BEGIN:VCALENDAR
VERSION:2.0
PRODID:Events Booking
BEGIN:VEVENT
UID:69eac7bf42238
SUMMARY:The Great Canadian Ladies Spiel
DESCRIPTION:Let's celebrate Canada and ladies the best way possible\, ELBOW
 S UP! The Great Canadian Ladies Spiel. $240/team of four\, includes two 8 
 end games\, a great Canadian lunch and some great Canadian prizes.&nbsp\;
LOCATION:King Street\, Midland\, L4R 2G8 Ontario\, Canada
DTSTART:20260307T130000Z
DTEND:20260308T040000Z
DTSTAMP:20250922T173132Z
ORGANIZER;CN=Midland Curling Club:MAILTO:do-not-reply@midlandcurlingclub.co
 m
GEO:44.744314;-79.880471
X-APPLE-STRUCTURED-LOCATION;VALUE=URI;X-ADDRESS=King Street\, Midland\, L4R
  2G8 Ontario\, Canada;X-APPLE-RADIUS=72;X-TITLE=Midland Curling Club:44.74
 4314;-79.880471
END:VEVENT
END:VCALENDAR