BEGIN:VCALENDAR
VERSION:2.0
PRODID:Events Booking
BEGIN:VEVENT
UID:69eac68c95e1a
SUMMARY:Love is Love Bonspiel
DESCRIPTION:
LOCATION:King Street\, Midland\, L4R 2G8 Ontario\, Canada
DTSTART:20260214T140000Z
DTEND:20260215T010000Z
DTSTAMP:20250925T060117Z
ORGANIZER;CN=Midland Curling Club:MAILTO:do-not-reply@midlandcurlingclub.co
 m
GEO:44.744314;-79.880471
X-APPLE-STRUCTURED-LOCATION;VALUE=URI;X-ADDRESS=King Street\, Midland\, L4R
  2G8 Ontario\, Canada;X-APPLE-RADIUS=72;X-TITLE=Midland Curling Club:44.74
 4314;-79.880471
END:VEVENT
END:VCALENDAR