BEGIN:VCALENDAR
VERSION:2.0
PRODID:Events Booking
BEGIN:VEVENT
UID:69ea21414d227
SUMMARY:Rain Rain Go Away Trivia
DESCRIPTION:April showers bring May flowers! Spring is here and time for so
 me more trivia. Get some friends together and come join us for Rain Rain G
 o Away Trivia. 7pm start\, $5/pp teams of 4.&nbsp\;
LOCATION:King Street\, Midland\, L4R 2G8 Ontario\, Canada
DTSTART:20260426T230000Z
DTEND:20260427T010000Z
DTSTAMP:20260413T021332Z
ORGANIZER;CN=Midland Curling Club:MAILTO:do-not-reply@midlandcurlingclub.co
 m
GEO:44.744314;-79.880471
X-APPLE-STRUCTURED-LOCATION;VALUE=URI;X-ADDRESS=King Street\, Midland\, L4R
  2G8 Ontario\, Canada;X-APPLE-RADIUS=72;X-TITLE=Midland Curling Club:44.74
 4314;-79.880471
END:VEVENT
END:VCALENDAR