BEGIN:VCALENDAR
VERSION:2.0
PRODID:Events Booking
BEGIN:VEVENT
UID:69ecc5cc3d393
SUMMARY:Spring & Summer Cornhole
DESCRIPTION:Everyone's played cornhole in the backyard\, have you thougnt a
 bout playing in a league?&nbsp\; Come put those backyard skills to the tes
 t and join our New Fun Cornhole Leagues.
 These adult cornhole leagues ar
 e designed to be an inclusive\, community-focused environment where partic
 ipation is open to everyone\, regardless of gender or athletic ability. Th
 e league prioritizes a welcoming atmosphere over intense competition\, ens
 uring players of all skill levels can find their place on the boards.
 

  Limited Capacity: Registration is often capped based on the number of ava
 ilable boards to prevent overcrowding and ensure all teams get adequate pl
 aytime.
 Flexible Rosters: Teams usually consist of 2 players\, but leagu
 es will allow rosters of up to 4 people to account for substitutes\, but e
 veryone must be a paid member. If you do not have a team\, you can sign up
  as an individual and be put on a team.
 
 &nbsp\;
 There will be an op
 en house night on Monday May 11th to come and sign up and see what the lea
 gues are all about. You can also register online here.&nbsp\; We will have
  an open practice week from May 18th-20th from 6pm to 9pm for you to pract
 ice your skills and see how those bags fly on our arena floor.&nbsp\;
 Th
 e league fee is $75 for one session (Spring or Fall) or $125 for both sess
 ions. The registration fee\, allows you to play in multiple leagues\, unle
 ss capacity is met for each league. We are looking at 20 people per 2 hour
  slot. First registered\, guarantees a slot.&nbsp\;
 The Drop-in League o
 n Tuesday and Thursday start at 10am is for anyone who justs wants to drop
 -in and get put together with a group of people and play. There are no tea
 ms or standings\, just come out to play cornhole and socialize. It starts 
 at 10am\, but you can drop in anytime up to 2pm. You need to register to s
 till be able to drop-in on Tuesdays and Thursdays.&nbsp\;
 &nbsp\;
 &nbs
 p\;
LOCATION:King Street\, Midland\, L4R 2G8 Ontario\, Canada
DTSTART:20260525T220000Z
DTEND:20260901T000000Z
DTSTAMP:20260420T170818Z
ORGANIZER;CN=Midland Curling Club:MAILTO:do-not-reply@midlandcurlingclub.co
 m
GEO:44.744314;-79.880471
X-APPLE-STRUCTURED-LOCATION;VALUE=URI;X-ADDRESS=King Street\, Midland\, L4R
  2G8 Ontario\, Canada;X-APPLE-RADIUS=72;X-TITLE=Midland Curling Club:44.74
 4314;-79.880471
END:VEVENT
END:VCALENDAR